BEGIN:VCALENDAR
VERSION:2.0
PRODID:icalendar-ruby
CALSCALE:GREGORIAN
METHOD:PUBLISH
BEGIN:VEVENT
DTSTAMP:20260423T204455Z
UID:64-1003785@clearviewmissionarybc.com
DTSTART:20260916T223000Z
DTEND:20260916T233000Z
CLASS:PUBLIC
CREATED:20260423T163410
DESCRIPTION:
LAST-MODIFIED:20260423T163410
LOCATION:4436 Cumberland Road\, Fayetteville\, NC 28306
SUMMARY:Wednesday Night Bible Study
URL;VALUE=URI:https://www.clearviewmissionarybc.com/events/wednesday-night-
 bible-study--64/2026-09-16
END:VEVENT
END:VCALENDAR
