BEGIN:VCALENDAR
VERSION:2.0
PRODID:icalendar-ruby
CALSCALE:GREGORIAN
METHOD:PUBLISH
BEGIN:VEVENT
DTSTAMP:20260423T235011Z
UID:64-1004217@clearviewmissionarybc.com
DTSTART:20260930T223000Z
DTEND:20260930T233000Z
CLASS:PUBLIC
CREATED:20260423T192754
DESCRIPTION:
LAST-MODIFIED:20260423T192754
LOCATION:4436 Cumberland Road\, Fayetteville\, NC 28306
SUMMARY:Wednesday Night Bible Study
URL;VALUE=URI:https://www.clearviewmissionarybc.com/events/wednesday-night-
 bible-study--64/2026-09-30
END:VEVENT
END:VCALENDAR
