BEGIN:VCALENDAR
VERSION:2.0
PRODID:icalendar-ruby
CALSCALE:GREGORIAN
METHOD:PUBLISH
BEGIN:VEVENT
DTSTAMP:20260424T090848Z
UID:64-1004652@clearviewmissionarybc.com
DTSTART:20261104T233000Z
DTEND:20261105T003000Z
CLASS:PUBLIC
CREATED:20260423T222150
DESCRIPTION:
LAST-MODIFIED:20260423T222150
LOCATION:4436 Cumberland Road\, Fayetteville\, NC 28306
SUMMARY:Wednesday Night Bible Study
URL;VALUE=URI:https://www.clearviewmissionarybc.com/events/wednesday-night-
 bible-study--64/2026-11-04
END:VEVENT
END:VCALENDAR
